BEGIN:VCALENDAR
PRODID:-//github.com/rianjs/ical.net//NONSGML ical.net 4.0//EN
VERSION:2.0
BEGIN:VEVENT
DESCRIPTION:Details:\nhttps://bbyo.org/bbyo-near-you/regions/northern-regi
 on-east-northern-virginia-council/nova-council-fall-2020-kickoff\n\nSumma
 ry:\nJoin NoVA Council for our Fall 2020 Kickoff!
DTEND:20200913T210000
DTSTAMP:20260423T002726Z
DTSTART:20200913T190000
LOCATION:Virtual
SEQUENCE:0
SUMMARY:NoVA Council Fall 2020 Kickoff
UID:d92f1d0c-e4ee-496b-9751-267343c7531a
END:VEVENT
END:VCALENDAR
