BEGIN:VCALENDAR
PRODID:-//github.com/rianjs/ical.net//NONSGML ical.net 4.0//EN
VERSION:2.0
BEGIN:VEVENT
DESCRIPTION:Details:\nhttps://bbyo.org/bbyo-near-you/regions/michigan-regi
 on/ann-arbor-bbyo-parent-info-night
DTEND:20240131T174500
DTSTAMP:20260425T194146Z
DTSTART:20240131T164500
LOCATION:Ann Arbor Michigan
SEQUENCE:0
SUMMARY:Ann Arbor BBYO Parent Info Night
UID:23e2c1b4-57eb-40c3-b15b-a7a3f72b180a
END:VEVENT
END:VCALENDAR
