BEGIN:VCALENDAR
PRODID:-//github.com/rianjs/ical.net//NONSGML ical.net 4.0//EN
VERSION:2.0
BEGIN:VEVENT
DESCRIPTION:Details:\nhttps://bbyo.org/bbyo-near-you/regions/mid-america-r
 egion-north-star-council/north-star-foam-party!!
DTEND:20180915T210000
DTSTAMP:20260425T235136Z
DTSTART:20180915T190000
LOCATION:St Louis Park Minnesota
SEQUENCE:0
SUMMARY:North Star Foam Party!!
UID:0ba55ff3-3839-483e-9398-fbb601fe5d2e
END:VEVENT
END:VCALENDAR
