BEGIN:VCALENDAR
PRODID:-//github.com/rianjs/ical.net//NONSGML ical.net 4.0//EN
VERSION:2.0
BEGIN:VEVENT
DESCRIPTION:Details:\nhttps://bbyo.org/bbyo-near-you/regions/michigan-regi
 on/rc-2021-snowball-fight
DTEND:20210228T140000
DTSTAMP:20260422T113352Z
DTSTART:20210228T123000
LOCATION:JCC Soccer Fields
SEQUENCE:0
SUMMARY:RC 2021 Snowball Fight
UID:c0d0ab29-1bbb-49de-809c-ae183ccb68f6
END:VEVENT
END:VCALENDAR
