BEGIN:VCALENDAR
PRODID:-//github.com/rianjs/ical.net//NONSGML ical.net 4.0//EN
VERSION:2.0
BEGIN:VEVENT
DESCRIPTION:Details:\nhttps://bbyo.org/bbyo-near-you/regions/great-midwest
 -region/gmr-south-suburbs-dance-2015-buffalo-grove-bus\n\nSummary:\nSouth
  Suburbs Dance 2015 \n\nBUFFALO GROVE BUS ONLY \n(Woodland Commons - 350 
 W. Half Day Rd)\n\nPlease register for this event if you are planning to 
 take the Buffalo Grove bus to the South
DTEND:20151205T210000
DTSTAMP:20260425T123915Z
DTSTART:20151205T190000
LOCATION:Temple Anshe Sholom
SEQUENCE:0
SUMMARY:GMR South Suburbs Dance 2015 - BUFFALO GROVE BUS
UID:fb65c6b6-2f9c-4d04-ac33-f3f279ba7d96
END:VEVENT
END:VCALENDAR
