BEGIN:VCALENDAR
PRODID:-//github.com/rianjs/ical.net//NONSGML ical.net 4.0//EN
VERSION:2.0
BEGIN:VEVENT
DESCRIPTION:Details:\nhttps://bbyo.org/bbyo-near-you/regions/north-texas-o
 klahoma-region/nto-8th-grade-open-house
DTEND:20221113T150000
DTSTAMP:20260422T101407Z
DTSTART:20221113T130000
LOCATION:JCC
SEQUENCE:0
SUMMARY:NTO 8th Grade Open House
UID:61e6b504-795e-4c12-a8fa-8bd11a79a60a
END:VEVENT
END:VCALENDAR
