BEGIN:VCALENDAR
PRODID:-//github.com/rianjs/ical.net//NONSGML ical.net 4.0//EN
VERSION:2.0
BEGIN:VEVENT
DESCRIPTION:Details:\nhttps://bbyo.org/bbyo-near-you/regions/northern-regi
 on-east-dc-council/nretreat-2021\n\nSummary:\nOur annual regional board t
 raining for all council board members from Northern Region East. A mix of
  training\, team-building and bonding to bring together our region to kic
 kstart our year!
DTEND:20210828T220000
DTSTAMP:20260423T002456Z
DTSTART:20210827T163000
LOCATION:Marsden Tract Group Campground (Rain: Bender JCC)
SEQUENCE:0
SUMMARY:NREtreat 2021
UID:8af7ad1d-d2ac-41d7-a30c-4ee280154343
END:VEVENT
END:VCALENDAR
