BEGIN:VCALENDAR
PRODID:-//github.com/rianjs/ical.net//NONSGML ical.net 4.0//EN
VERSION:2.0
BEGIN:VEVENT
DESCRIPTION:Details:\nhttps://bbyo.org/bbyo-near-you/regions/central-regio
 n-west/teen-connection-winter-dance-pjcc-(1)\n\nSummary:\nTC Dance for al
 l CRW and Peninsula JCC and Community 6th\, 7th and 8th graders
DTEND:20060211T223000
DTSTAMP:20260423T115125Z
DTSTART:20060211T200000
LOCATION:PJCC
SEQUENCE:0
SUMMARY:Teen Connection Winter Dance - PJCC
UID:da569bbc-0ae3-484d-8318-b1fdbc7fb43b
END:VEVENT
END:VCALENDAR
