BEGIN:VCALENDAR
PRODID:-//github.com/rianjs/ical.net//NONSGML ical.net 4.0//EN
VERSION:2.0
BEGIN:VEVENT
DESCRIPTION:Details:\nhttps://bbyo.org/bbyo-near-you/regions/delta-region/
 csr-ic-swag\n\nSummary:\nPlease purchase your IC swag before you arrive t
 o International Convention in Dallas. The pack includes 2 shirts and a fe
 w other fun "spirit stuff".
DTEND:20200217T110000
DTSTAMP:20260423T002723Z
DTSTART:20200214T180000
LOCATION:Dallas\, TX
SEQUENCE:0
SUMMARY:CSR IC Swag
UID:167e77e2-e3dd-4b27-bf54-190780c6cf5f
END:VEVENT
END:VCALENDAR
