BEGIN:VCALENDAR
PRODID:-//github.com/rianjs/ical.net//NONSGML ical.net 4.0//EN
VERSION:2.0
BEGIN:VEVENT
DESCRIPTION:Details:\nhttps://bbyo.org/bbyo-near-you/regions/northern-regi
 on-east-baltimore-council/baltimore-givingbbyoday
DTEND:20221129T200000
DTSTAMP:20260421T010724Z
DTSTART:20221129T180000
LOCATION:Owings Mills JCC
SEQUENCE:0
SUMMARY:Baltimore #givingBBYOday
UID:88881569-bd60-455d-83ea-4b8a7f7b1b7b
END:VEVENT
END:VCALENDAR
