BEGIN:VCALENDAR
PRODID:-//github.com/rianjs/ical.net//NONSGML ical.net 4.0//EN
VERSION:2.0
BEGIN:VEVENT
DESCRIPTION:Details:\nhttps://bbyo.org/bbyo-near-you/regions/northern-regi
 on-east-baltimore-council/nre-new-member-weekend-2019\n\nSummary:\nJoin N
 RE for our annual New Member Weekend!  New Member Weekend is designed exc
 lusively for YOU. That's right - a weekend just for our newest members (8
 th - 10th grades)\, planned by the Coun
DTEND:20190324T110000
DTSTAMP:20260420T103348Z
DTSTART:20190322T153000
LOCATION:North East Maryland
SEQUENCE:0
SUMMARY:NRE New Member Weekend 2019
UID:d5901a8e-4f54-409a-bddb-0f3d42f1b884
END:VEVENT
END:VCALENDAR
