BEGIN:VCALENDAR
PRODID:-//github.com/rianjs/ical.net//NONSGML ical.net 4.0//EN
VERSION:2.0
BEGIN:VEVENT
DESCRIPTION:Details:\nhttps://bbyo.org/bbyo-near-you/regions/central-regio
 n-west/fraternity-weekend\n\nSummary:\nIn this regional event/sleepover a
 lephs will engage in meaningful programming to bond with their brother al
 ephs.\n\nStaff:\nRoss Glinkenhouse\nDan Smolkin
DTEND:20160416T134500
DTSTAMP:20260425T235138Z
DTSTART:20160415T170000
LOCATION:Little Basin (Camping site)
SEQUENCE:0
SUMMARY:Fraternity Weekend
UID:1ec9b9ff-c6c7-403c-a4bb-c39975b04baf
END:VEVENT
END:VCALENDAR
