BEGIN:VCALENDAR
PRODID:-//github.com/rianjs/ical.net//NONSGML ical.net 4.0//EN
VERSION:2.0
BEGIN:VEVENT
DESCRIPTION:Details:\nhttps://bbyo.org/bbyo-near-you/regions/lonestar-regi
 on/austin-jcc-hang
DTEND:20201115T190000
DTSTAMP:20260423T042648Z
DTSTART:20201115T120000
LOCATION:Shalom Austin
SEQUENCE:0
SUMMARY:Austin JCC Hang
UID:40494073-b735-4119-aa1f-a03b9da1a651
END:VEVENT
END:VCALENDAR
