BEGIN:VCALENDAR
PRODID:-//github.com/rianjs/ical.net//NONSGML ical.net 4.0//EN
VERSION:2.0
BEGIN:VEVENT
DESCRIPTION:Details:\nhttps://bbyo.org/bbyo-near-you/regions/pacific-weste
 rn-region/san-diego-global-shabbat\n\nSummary:\nJoin San Diego BBYO for a
 n extrememly special Global Shabbat Celebration. We will begin with a sho
 rt service followed by a catered Shabbat Dinner. This event is for teens\
 , parents\, and family members interested in joining! \n\n*We will have v
 egan/vegitarian options available
DTEND:20231208T200000
DTSTAMP:20260425T194444Z
DTSTART:20231208T180000
LOCATION:Encinitas California
SEQUENCE:0
SUMMARY:San Diego Global Shabbat
UID:b1eca1b9-8574-4718-a18f-d45b880a6898
END:VEVENT
END:VCALENDAR
