BEGIN:VCALENDAR
PRODID:-//github.com/rianjs/ical.net//NONSGML ical.net 4.0//EN
VERSION:2.0
BEGIN:VEVENT
DESCRIPTION:Details:\nhttps://bbyo.org/bbyo-near-you/regions/ohio-northern
 -region/onr-david-berger-dodgeball-tournament
DTEND:20180408T180000
DTSTAMP:20260423T002726Z
DTSTART:20180408T160000
LOCATION:
SEQUENCE:0
SUMMARY:ONR David Berger Dodgeball Tournament
UID:99bc81c2-af77-4203-9113-dcc717c8ce41
END:VEVENT
END:VCALENDAR
