BEGIN:VCALENDAR
PRODID:-//github.com/rianjs/ical.net//NONSGML ical.net 4.0//EN
VERSION:2.0
BEGIN:VEVENT
DESCRIPTION:Details:\nhttps://bbyo.org/bbyo-near-you/regions/mid-america-r
 egion-omaha-council/purim-in-october-program
DTEND:20231024T190000
DTSTAMP:20260423T203108Z
DTSTART:20231024T180000
LOCATION:Omaha JCC
SEQUENCE:0
SUMMARY:Purim in October Program
UID:30413c29-816e-421f-af3e-42725869a390
END:VEVENT
END:VCALENDAR
