BEGIN:VCALENDAR
PRODID:-//github.com/rianjs/ical.net//NONSGML ical.net 4.0//EN
VERSION:2.0
BEGIN:VEVENT
DESCRIPTION:Details:\nhttps://bbyo.org/bbyo-near-you/regions/hudson-valley
 -region/hvr-s-ic-launch-night
DTEND:20220922T210000
DTSTAMP:20260422T101122Z
DTSTART:20220922T190000
LOCATION:Ben Geller's House
SEQUENCE:0
SUMMARY:HVR's IC Launch Night
UID:b45b5551-8472-4fcc-b2c8-b82003f1d69c
END:VEVENT
END:VCALENDAR
