BEGIN:VCALENDAR
PRODID:-//github.com/rianjs/ical.net//NONSGML ical.net 4.0//EN
VERSION:2.0
BEGIN:VEVENT
DESCRIPTION:Details:\nhttps://bbyo.org/bbyo-near-you/regions/kentucky-indi
 ana-ohio-region/kio-fall-rlti
DTEND:20210914T203000
DTSTAMP:20260425T183357Z
DTSTART:20210914T193000
LOCATION:Zoom
SEQUENCE:0
SUMMARY:KIO Fall RLTI
UID:531bf55f-6747-4f1f-8471-a09c24af9408
END:VEVENT
END:VCALENDAR
