BEGIN:VCALENDAR
PRODID:-//github.com/rianjs/ical.net//NONSGML ical.net 4.0//EN
VERSION:2.0
BEGIN:VEVENT
DESCRIPTION:Details:\nhttps://bbyo.org/bbyo-near-you/regions/mid-america-r
 egion-kansas-city-council/mar-kansas-city-council-s-new-member-overnight
DTEND;VALUE=DATE:20180531
DTSTAMP:20260423T002343Z
DTSTART;VALUE=DATE:20180530
LOCATION:
SEQUENCE:0
SUMMARY:MAR - Kansas City Council's New Member Overnight
UID:bbbb9adc-938b-461b-ba78-4555742b5434
END:VEVENT
END:VCALENDAR
