BEGIN:VCALENDAR
PRODID:-//github.com/rianjs/ical.net//NONSGML ical.net 4.0//EN
VERSION:2.0
BEGIN:VEVENT
DESCRIPTION:Details:\nhttps://bbyo.org/bbyo-near-you/regions/lake-ontario-
 region/evening-with-israeli-teens-(1)
DTEND:20060208T003000
DTSTAMP:20260422T003715Z
DTSTART:20060208T003000
LOCATION:BBYO Office
SEQUENCE:0
SUMMARY:Evening with Israeli Teens
UID:c1a76a34-bb0c-4841-8e82-3871fc394553
END:VEVENT
END:VCALENDAR
