BEGIN:VCALENDAR
PRODID:-//github.com/rianjs/ical.net//NONSGML ical.net 4.0//EN
VERSION:2.0
BEGIN:VEVENT
DESCRIPTION:Details:\nhttps://bbyo.org/bbyo-near-you/regions/mid-america-r
 egion-kansas-city-council/spring-regional-convention-2006-kansas-city\n\n
 Summary:\nMid-America Spring Regional Convention 2006
DTEND;VALUE=DATE:20060409
DTSTAMP:20260422T202437Z
DTSTART;VALUE=DATE:20060406
LOCATION:Camp Sabra
SEQUENCE:0
SUMMARY:Spring Regional Convention 2006 - Kansas City
UID:3bd2b55d-a983-42ff-b52c-b8b5a9e97afc
END:VEVENT
END:VCALENDAR
