BEGIN:VCALENDAR
PRODID:-//github.com/rianjs/ical.net//NONSGML ical.net 4.0//EN
VERSION:2.0
BEGIN:VEVENT
DESCRIPTION:Details:\nhttps://bbyo.org/bbyo-near-you/regions/lonestar-regi
 on/lsr-mit-ait-convention-2016-pc3000\n\nSummary:\nBBYO Lonestar Region's
  Annual New Member Convention!
DTEND;VALUE=DATE:20161030
DTSTAMP:20260425T194146Z
DTSTART;VALUE=DATE:20161028
LOCATION:Camp Olympia
SEQUENCE:0
SUMMARY:LSR-MIT/AIT Convention 2016 -PC3000
UID:a505b4fb-4422-45bf-8980-7c50052fdb59
END:VEVENT
END:VCALENDAR
