BEGIN:VCALENDAR
PRODID:-//github.com/rianjs/ical.net//NONSGML ical.net 4.0//EN
VERSION:2.0
BEGIN:VEVENT
DESCRIPTION:Details:\nhttps://bbyo.org/bbyo-near-you/regions/miami-region/
 miami-mit-ait-lti-2017-(pc3010)\n\nSummary:\nLOCATION: Lake Placid Camp a
 nd Conference Center 2665 Placid View Drive. Lake Placid\, FL 33852 DATE:
  Friday\, January 20th- Sunday\, January 22nd Please note that in order t
 o get down to Lake
DTEND:20170122T160000
DTSTAMP:20260423T001930Z
DTSTART:20170120T133000
LOCATION:Lake Placid
SEQUENCE:0
SUMMARY:Miami MIT AIT LTI 2017 (PC3010)
UID:5473f583-c13e-423d-ad99-f3ea07fc6a25
END:VEVENT
END:VCALENDAR
