BEGIN:VCALENDAR
PRODID:-//github.com/rianjs/ical.net//NONSGML ical.net 4.0//EN
VERSION:2.0
BEGIN:VEVENT
DESCRIPTION:Details:\nhttps://bbyo.org/bbyo-near-you/regions/lonestar-regi
 on/taste-of-bbg-painting-on-the-patio\,-session-1\n\nSummary:\nJoin us fo
 r an afternoon of socially-distant painting with BBG! There will be two s
 essions: 1:30-2:30 and 3-4 with a maximum of 15 teens at each session. Sp
 ots are limited\, so sign up now!\n\n
DTEND:20201206T143000
DTSTAMP:20260422T084822Z
DTSTART:20201206T133000
LOCATION:Houston Texas
SEQUENCE:0
SUMMARY:Taste of BBG: Painting on the Patio\, Session 1
UID:cdde5de5-18da-49cb-85fb-75fa2a56d7c8
END:VEVENT
END:VCALENDAR
