BEGIN:VCALENDAR
PRODID:-//github.com/rianjs/ical.net//NONSGML ical.net 4.0//EN
VERSION:2.0
BEGIN:VEVENT
DESCRIPTION:Details:\nhttps://bbyo.org/bbyo-near-you/regions/central-regio
 n-west/crw-beau-on-a-boat\n\nSummary:\nThis year\, CRW's annual Beau Swee
 theart Dance will be held on a yacht\, as we sail through the San Francis
 co Bay with Red and White Fleet! Dinner will be provided. Join us for an 
 incredible night!
DTEND:20220319T213000
DTSTAMP:20260423T200447Z
DTSTART:20220319T193000
LOCATION:San Francisco California
SEQUENCE:0
SUMMARY:CRW Beau on a Boat
UID:b758e2ed-0a03-464d-88e5-d95b3e04b8f5
END:VEVENT
END:VCALENDAR
