BEGIN:VCALENDAR
PRODID:-//github.com/rianjs/ical.net//NONSGML ical.net 4.0//EN
VERSION:2.0
BEGIN:VEVENT
DESCRIPTION:Details:\nhttps://bbyo.org/bbyo-near-you/regions/wisconsin-reg
 ion/b-sheret-with-courtney
DTEND:20240502T193000
DTSTAMP:20260419T145830Z
DTSTART:20240502T183000
LOCATION:Offices
SEQUENCE:0
SUMMARY:B'sheret with Courtney
UID:1b79393e-789e-4bd6-a3d8-aa1b1182ea9e
END:VEVENT
END:VCALENDAR
