BEGIN:VCALENDAR
PRODID:-//github.com/rianjs/ical.net//NONSGML ical.net 4.0//EN
VERSION:2.0
BEGIN:VEVENT
DESCRIPTION:Details:\nhttps://bbyo.org/bbyo-near-you/regions/rocky-mountai
 n-region/denver-chapter-meetings-(16)\n\nSummary:\nTake a break from home
 work and join us for chapter meetings. Learn about the chapters\, meet th
 e members\, grab a snack\, and stay up-to-date with everything BBYO in De
 nver!
DTEND:20151021T204500
DTSTAMP:20260419T122952Z
DTSTART:20151020T191500
LOCATION:DU Hillel
SEQUENCE:0
SUMMARY:Denver Chapter Meetings
UID:d1bc32bf-dfca-4aa6-b0f6-4166b950afb9
END:VEVENT
END:VCALENDAR
