BEGIN:VCALENDAR
PRODID:-//github.com/rianjs/ical.net//NONSGML ical.net 4.0//EN
VERSION:2.0
BEGIN:VEVENT
DESCRIPTION:Details:\nhttps://bbyo.org/bbyo-near-you/regions/northern-regi
 on-east-baltimore-council/baltimore-council-aza-underground-(1)\n\nSummar
 y:\nJoin your fellow Alephs from Baltimore Council for a night of bonding
 \, fun\, and brotherhood! You don't want to miss this event!
DTEND:20200314T210000
DTSTAMP:20260423T201908Z
DTSTART:20200314T190000
LOCATION:Owings Mills Maryland
SEQUENCE:0
SUMMARY:Baltimore Council AZA Underground
UID:10bfad16-9eca-47e1-98cf-1c60a6f1e89b
END:VEVENT
END:VCALENDAR
