BEGIN:VCALENDAR
PRODID:-//github.com/rianjs/ical.net//NONSGML ical.net 4.0//EN
VERSION:2.0
BEGIN:VEVENT
DESCRIPTION:Details:\nhttps://bbyo.org/bbyo-near-you/regions/pacific-weste
 rn-region/pwr-regional-kickoff
DTEND:20220911T153000
DTSTAMP:20260425T183126Z
DTSTART:20220911T123000
LOCATION:Burbank  California
SEQUENCE:0
SUMMARY:PWR Regional Kickoff
UID:7a29113c-4bce-4676-a351-e32787a7a4e7
END:VEVENT
END:VCALENDAR
