BEGIN:VCALENDAR
PRODID:-//github.com/rianjs/ical.net//NONSGML ical.net 4.0//EN
VERSION:2.0
BEGIN:VEVENT
DESCRIPTION:Details:\nhttps://bbyo.org/bbyo-near-you/regions/lonestar-regi
 on/austin-taste-of-bbg\n\nSummary:\nCome paint your own pottery with Litz
 or BBG anf Ra'naan BBG!
DTEND:20200301T163000
DTSTAMP:20260423T081825Z
DTSTART:20200301T150000
LOCATION:Austin Texas
SEQUENCE:0
SUMMARY:Austin Taste of BBG
UID:1948a408-42fa-4d05-b2e6-6717d993c14a
END:VEVENT
END:VCALENDAR
