BEGIN:VCALENDAR
PRODID:-//github.com/rianjs/ical.net//NONSGML ical.net 4.0//EN
VERSION:2.0
BEGIN:VEVENT
DESCRIPTION:Details:\nhttps://bbyo.org/bbyo-near-you/regions/connecticut-v
 alley-region/bbyo-cvr-summer-arts-and-chillax-(session-2-greate\n\nSummar
 y:\nKibbitz with your friends and let your creativity flow with the follo
 wing art projects.\n\n\n	Jewelry crafting\n	Guided painting\n	Mosaic desi
 gn\n	Wood Sign painting\n	Challah board making and more
DTEND:20200730T150000
DTSTAMP:20260425T182704Z
DTSTART:20200721T133000
LOCATION:Greater Hartford
SEQUENCE:0
SUMMARY:BBYO CVR Summer - Arts and Chillax (Session 2 Greater Hartford)
UID:2748accf-4d44-450a-b398-e5c2d5d40375
END:VEVENT
END:VCALENDAR
