BEGIN:VCALENDAR
PRODID:-//github.com/rianjs/ical.net//NONSGML ical.net 4.0//EN
VERSION:2.0
BEGIN:VEVENT
DESCRIPTION:Details:\nhttps://bbyo.org/bbyo-near-you/regions/pacific-weste
 rn-region/intergenerational-global-shabbat-with-pwr\,-crw-and\n\nSummary:
 \nWe invite all teens and grandparents to join us virtually for a Global 
 Shabbat filled with song and stories. Teens from Evergreen\, Pacific West
 ern Region and Central Region West will be join
DTEND:20201211T200000
DTSTAMP:20260423T042648Z
DTSTART:20201211T190000
LOCATION:Zoom
SEQUENCE:0
SUMMARY:Intergenerational Global Shabbat with PWR\, CRW and Evergreen
UID:b2354184-c070-4b30-aee3-eeb85a0adbfa
END:VEVENT
END:VCALENDAR
