BEGIN:VCALENDAR
PRODID:-//github.com/rianjs/ical.net//NONSGML ical.net 4.0//EN
VERSION:2.0
BEGIN:VEVENT
DESCRIPTION:Details:\nhttps://bbyo.org/bbyo-near-you/regions/connecticut-v
 alley-region/b-yachad-2019\n\nSummary:\nAll BBYO CVR members in 9th - 12t
 h grade are invited to join us for B'Yachad\, our first convention of the
  year! \n\nJoin us to wrap up your summer and learn how to develop as a l
 eader in your
DTEND:20190825T140000
DTSTAMP:20260423T015902Z
DTSTART:20190823T150000
LOCATION:
SEQUENCE:0
SUMMARY:B'Yachad 2019
UID:4a97272d-3d67-4cae-8c02-66da5436663d
END:VEVENT
END:VCALENDAR
