BEGIN:VCALENDAR
PRODID:-//github.com/rianjs/ical.net//NONSGML ical.net 4.0//EN
VERSION:2.0
BEGIN:VEVENT
DESCRIPTION:Details:\nhttps://bbyo.org/bbyo-near-you/regions/big-apple-reg
 ion/regional-kallah-overnight-(2)\n\nSummary:\nJoin us March 13th and 14 
 for our Regional Kallah Overnight. Saturday night will be virtual startin
 g at 6:45pm and include Havdallah\, teen led programs\, and a fun social 
 event. Sunday will i
DTEND:20210314T140000
DTSTAMP:20260420T101340Z
DTSTART:20210313T184500
LOCATION:Zoom
SEQUENCE:0
SUMMARY:Regional Kallah Overnight
UID:4b0623f0-54f3-4def-b47d-a258320e9f05
END:VEVENT
END:VCALENDAR
