BEGIN:VCALENDAR
PRODID:-//github.com/rianjs/ical.net//NONSGML ical.net 4.0//EN
VERSION:2.0
BEGIN:VEVENT
DESCRIPTION:Details:\nhttps://bbyo.org/bbyo-near-you/regions/michigan-regi
 on/bbyo-connect-at-rc-whirlyball-and-dinner-(pc-5110
DTEND:20151227T200000
DTSTAMP:20260422T101327Z
DTSTART:20151227T180000
LOCATION:Whirlyball
SEQUENCE:0
SUMMARY:BBYO Connect at RC: Whirlyball and Dinner (PC:5110)
UID:310cc860-cfa6-4b05-ba51-0dbbcf600e7f
END:VEVENT
END:VCALENDAR
