BEGIN:VCALENDAR
PRODID:-//github.com/rianjs/ical.net//NONSGML ical.net 4.0//EN
VERSION:2.0
BEGIN:VEVENT
DESCRIPTION:Details:\nhttps://bbyo.org/bbyo-near-you/regions/rocky-mountai
 n-region/rmr-j-serve-national-jewish-day-of-service\n\nSummary:\nRMR BBYO
  is hosting a J-Serve event for the National Jewish Day of Service. We pl
 an to meet and assemble PB&J sandwiches before heading out into the commu
 nity and sharing lunches with hungry
DTEND:20190414T160000
DTSTAMP:20260422T202314Z
DTSTART:20190414T120000
LOCATION:Denver\, CO
SEQUENCE:0
SUMMARY:RMR J-Serve: National Jewish Day of Service
UID:2c422f04-ef28-43de-b8b7-18f1808d836e
END:VEVENT
END:VCALENDAR
