BEGIN:VCALENDAR
PRODID:-//github.com/rianjs/ical.net//NONSGML ical.net 4.0//EN
VERSION:2.0
BEGIN:VEVENT
DESCRIPTION:Details:\nhttps://bbyo.org/bbyo-near-you/regions/mountain-regi
 on/mtn-lv-queen-esther-s-ball-2016-(pc5000)\n\nSummary:\nJoin Las Vegas B
 BYO for Queen Esther's Ball.  $15.
DTEND:20160529T220000
DTSTAMP:20260424T063107Z
DTSTART:20160529T200000
LOCATION:Various - Specifics given out closer to event
SEQUENCE:0
SUMMARY:MTN LV - Queen Esther's Ball 2016 - (PC5000)
UID:3f68f61e-310d-4185-959f-6267fb6b9047
END:VEVENT
END:VCALENDAR
