BEGIN:VCALENDAR
PRODID:-//github.com/rianjs/ical.net//NONSGML ical.net 4.0//EN
VERSION:2.0
BEGIN:VEVENT
DESCRIPTION:Details:\nhttps://bbyo.org/bbyo-near-you/regions/manhattan-reg
 ion/manhattan-region-bbyo-convention
DTEND;VALUE=DATE:20171203
DTSTAMP:20260425T182814Z
DTSTART;VALUE=DATE:20171201
LOCATION:
SEQUENCE:0
SUMMARY:Manhattan Region BBYO Convention
UID:70d775f3-9a1e-41eb-9815-86b13cdd7759
END:VEVENT
END:VCALENDAR
