BEGIN:VCALENDAR
PRODID:-//github.com/rianjs/ical.net//NONSGML ical.net 4.0//EN
VERSION:2.0
BEGIN:VEVENT
DESCRIPTION:Details:\nhttps://bbyo.org/bbyo-near-you/regions/eastern-regio
 n/ohavim/oha-honey-cake-bake
DTEND:20230926T203000
DTSTAMP:20260421T221216Z
DTSTART:20230926T190000
LOCATION:Levine JCC
SEQUENCE:0
SUMMARY:Oha-honey Cake Bake
UID:f2841072-09e4-4cf5-a942-96f05a5a03c7
END:VEVENT
END:VCALENDAR
