BEGIN:VCALENDAR
PRODID:-//github.com/rianjs/ical.net//NONSGML ical.net 4.0//EN
VERSION:2.0
BEGIN:VEVENT
DESCRIPTION:Details:\nhttps://bbyo.org/bbyo-near-you/regions/northern-regi
 on-east-baltimore-council/nre-snow-day!-(early-bird-pricing)
DTEND:20230129T173000
DTSTAMP:20260422T101326Z
DTSTART:20230129T100000
LOCATION:Roundtop Mountain Resort
SEQUENCE:0
SUMMARY:NRE Snow Day! (Early-Bird Pricing)
UID:fbc22a92-f6ea-4dbb-8236-38967602af89
END:VEVENT
END:VCALENDAR
