BEGIN:VCALENDAR
PRODID:-//github.com/rianjs/ical.net//NONSGML ical.net 4.0//EN
VERSION:2.0
BEGIN:VEVENT
DESCRIPTION:Details:\nhttps://bbyo.org/bbyo-near-you/regions/greater-jerse
 y-region/greater-jersey-region-bbyo-fall-kickoff-2024-y-(1)\n\nSummary:\n
 THE PARAMUS BUS IS NOW OFFICIALLY CLOSED! WE ARE STILL TAKING REGISTRANTS
  FOR MARLBORO AND LIVINGSTON!! BOTH ARE NO LONGER WAITLISTED!!!!\n\nWHO: 
 YOU...COURSE!!! (9th-12th graders) \n\nWHAT: A dinner cruise along the Hu
 dson River!\n\nWHERE: We are leaving this year from a pier in NYC...speci
 fic details to follow! \n\nWHEN: Saturday\, September 28th\, 2024.  Board
 ing Time: 6:30pm\; Sailing Time: 7pm-10pm\n\nWHY: Do you really need a re
 ason to take a yacht ride with your favorite BBYO friends?!! \n\nFUTURE M
 EMBER PRICING: $118 \n\nWHAT'S INCLUDED: A 3-hour yacht ride along the Hu
 dson River\, live DJ\, yummy dinner buffet and with tasty sweets and asso
 rted soft drinks\, juices and water. And who knows...we may even have a f
 ew other additional surprises! :)\n\nRegistration closes on Friday\, Sept
 ember 20th.  Cancellations prior to the cut off date will be honored\, mi
 nus a $36 administrative fee.  We will be unable to extend refunds for an
 y reason following September 20th.  \n\nEmail Regional Director\, Amy Ger
 son (agerson@bbyo.org) with any questions!!
DTEND:20240928T220000
DTSTAMP:20260425T183310Z
DTSTART:20240928T183000
LOCATION:New York City New York
SEQUENCE:0
SUMMARY:Greater Jersey Region BBYO Fall Kickoff 2024 Yacht Party - Future 
 Members
UID:5a664b06-949b-4524-ba69-f99fd77d130a
END:VEVENT
END:VCALENDAR
