BEGIN:VCALENDAR
PRODID:-//github.com/rianjs/ical.net//NONSGML ical.net 4.0//EN
VERSION:2.0
BEGIN:VEVENT
DESCRIPTION:Details:\nhttps://bbyo.org/bbyo-near-you/regions/hudson-valley
 -region/westchester-rockland-bbyo-winter-convention
DTEND;VALUE=DATE:20171203
DTSTAMP:20260420T111149Z
DTSTART;VALUE=DATE:20171201
LOCATION:
SEQUENCE:0
SUMMARY:Westchester & Rockland BBYO Winter Convention
UID:6b7508c3-ab87-4a4b-87c9-ae62d3e61ba5
END:VEVENT
END:VCALENDAR
