BEGIN:VCALENDAR
PRODID:-//github.com/rianjs/ical.net//NONSGML ical.net 4.0//EN
VERSION:2.0
BEGIN:VEVENT
DESCRIPTION:Details:\nhttps://bbyo.org/bbyo-near-you/regions/rocky-mountai
 n-region/fraternity-weekend
DTEND:20061112T130000
DTSTAMP:20260419T213550Z
DTSTART:20061110T180000
LOCATION:Denver
SEQUENCE:0
SUMMARY:Fraternity Weekend
UID:2bf58ad5-da25-4010-987f-9a63efa28c5e
END:VEVENT
END:VCALENDAR
