BEGIN:VCALENDAR
PRODID:-//github.com/rianjs/ical.net//NONSGML ical.net 4.0//EN
VERSION:2.0
BEGIN:VEVENT
DESCRIPTION:Details:\nhttps://bbyo.org/bbyo-near-you/regions/evergreen-reg
 ion/egr-jewish-education-conference-2014\n\nSummary:\nJewish Education Co
 nference is an annual convention\, and this year's theme is "Judaism Arou
 nd the World". Spend time getting to know teens in the Evergreen Region w
 hile sharing Shabbat\, and
DTEND:20141026T110000
DTSTAMP:20260424T063106Z
DTSTART:20141024T160000
LOCATION:Camp Solomon Schechter
SEQUENCE:0
SUMMARY:EGR Jewish Education Conference 2014
UID:f0881995-ead0-4885-8889-a71420095961
END:VEVENT
END:VCALENDAR
