BEGIN:VCALENDAR
PRODID:-//github.com/rianjs/ical.net//NONSGML ical.net 4.0//EN
VERSION:2.0
BEGIN:VEVENT
DESCRIPTION:Details:\nhttps://bbyo.org/bbyo-near-you/regions/lonestar-regi
 on/lonestar-bbyo-calendar-clearence
DTEND:20240903T203000
DTSTAMP:20260421T084057Z
DTSTART:20240903T190000
LOCATION:Merfish Teen Center & Shalom Austin
SEQUENCE:0
SUMMARY:Lonestar BBYO Calendar Clearence
UID:356401ae-32d2-4c64-8044-8a9056ccfd6c
END:VEVENT
END:VCALENDAR
