BEGIN:VCALENDAR
PRODID:-//github.com/rianjs/ical.net//NONSGML ical.net 4.0//EN
VERSION:2.0
BEGIN:VEVENT
DESCRIPTION:Details:\nhttps://bbyo.org/bbyo-near-you/regions/liberty-regio
 n/liberty-s-winter-convention-2023
DTEND:20231217T123000
DTSTAMP:20260420T100511Z
DTSTART:20231215T180000
LOCATION:Breinigsville Pennsylvania
SEQUENCE:0
SUMMARY:Liberty's Winter Convention 2023
UID:b78afcb0-bbe5-4fb2-a733-40eb19649f6e
END:VEVENT
END:VCALENDAR
