BEGIN:VCALENDAR
PRODID:-//github.com/rianjs/ical.net//NONSGML ical.net 4.0//EN
VERSION:2.0
BEGIN:VEVENT
DESCRIPTION:Details:\nhttps://bbyo.org/bbyo-near-you/regions/new-england-r
 egion/ner-spring-convention-2021\n\nSummary:\nWe are excited to invite yo
 u to our hybrid Spring Convention! We hope you will join us for programs 
 designed to simply connect our members together for more of a social conv
 ention online and
DTEND:20210425T160000
DTSTAMP:20260425T182815Z
DTSTART:20210423T170000
LOCATION:Needham Massachusetts
SEQUENCE:0
SUMMARY:NER Spring Convention 2021
UID:5679829e-8bd4-4b7e-be6d-0e203f0460bb
END:VEVENT
END:VCALENDAR
