BEGIN:VCALENDAR
PRODID:-//github.com/rianjs/ical.net//NONSGML ical.net 4.0//EN
VERSION:2.0
BEGIN:VEVENT
DESCRIPTION:Details:\nhttps://bbyo.org/bbyo-near-you/regions/wisconsin-reg
 ion/wi-wrc-2015-early-bird-(pc3010)
DTEND;VALUE=DATE:20151206
DTSTAMP:20260422T101256Z
DTSTART;VALUE=DATE:20151204
LOCATION:
SEQUENCE:0
SUMMARY:WI - WRC 2015 - Early Bird (PC3010)
UID:7dbfaa93-5119-4c46-8162-5dae31d356aa
END:VEVENT
END:VCALENDAR
