BEGIN:VCALENDAR
PRODID:-//github.com/rianjs/ical.net//NONSGML ical.net 4.0//EN
VERSION:2.0
BEGIN:VEVENT
DESCRIPTION:Details:\nhttps://bbyo.org/bbyo-near-you/regions/rocky-mountai
 n-region/rmr-ic-swag-purchase-and-pickup
DTEND:20220213T150000
DTSTAMP:20260421T163618Z
DTSTART:20220213T120000
LOCATION:Aurora Colorado
SEQUENCE:0
SUMMARY:RMR IC Swag Purchase and Pickup
UID:9cae9341-ecaf-4726-9180-6d836f1797d3
END:VEVENT
END:VCALENDAR
