BEGIN:VCALENDAR
PRODID:-//github.com/rianjs/ical.net//NONSGML ical.net 4.0//EN
VERSION:2.0
BEGIN:VEVENT
DESCRIPTION:Details:\nhttps://bbyo.org/bbyo-near-you/regions/south-jersey-
 region/south-jersey-region-bbyo-night-(3)\n\nSummary:\nCome join South Je
 rsey Region BBYO for our monthly BBYO Night. We will be having an hour of
  chapter time and an hour of regional time.
DTEND:20160313T210000
DTSTAMP:20260420T111150Z
DTSTART:20160313T190000
LOCATION:Katz JCC
SEQUENCE:0
SUMMARY:South Jersey Region BBYO Night
UID:fde4f9c5-c238-437a-a8d6-5ad5d8be60ec
END:VEVENT
END:VCALENDAR
